BEGIN:VCALENDAR
VERSION:2.0
PRODID:icalendar-ruby
CALSCALE:GREGORIAN
METHOD:PUBLISH
BEGIN:VEVENT
DTSTAMP:20260422T213025Z
UID:894-318063@stmarysoakbay.ca
DTSTART:20260426T170000Z
DTEND:20260426T180000Z
CLASS:PUBLIC
CREATED:20260422T104813
DESCRIPTION:Join us in person and live online as we give our thanks and pra
 ise to God. \n\nPresider &amp\; Preacher: The Venerable Craig Hiebert\nAss
 isting: The Reverend Dyan Davison\nLay Eucharistic Minister: David Stewart
  and Jackie Hiebert\nReadings &amp\; Prayers: Bob Gill and Gillian Fosdick
 \nMusicians: St Mary's Singers and organist Oriel Chapman\n\nReadings:  
  Ezekiel 34. 7-15  •   Psalm 100   •    1 Peter 2. 19-25  •
    John 10. 1-10\nThe Collection Plate \n(donate online via CanadaHelps)
LAST-MODIFIED:20260422T104813
LOCATION:St Mary's\, Oak Bay
SUMMARY:Fourth Sunday of Easter
URL;VALUE=URI:https://www.stmarysoakbay.ca/events/fourth-sunday-of-easter--
 894/2026-04-26
ATTACH;FILENAME=SMV website Worship Event.jpg;FMTTYPE=image/jpeg:https://dq
 5pwpg1q8ru0.cloudfront.net/2026/04/08/15/33/32/9b4e38fb-a885-41b9-8eae-ecf
 d6b03a084/SMV%20website%20Worship%20Event.jpg
END:VEVENT
END:VCALENDAR
